BEGIN:VCALENDAR
VERSION:2.0
PRODID:-//ChamberMaster//Event Calendar 2.0//EN
METHOD:PUBLISH
X-PUBLISHED-TTL:P3D
REFRESH-INTERVAL:P3D
CALSCALE:GREGORIAN
BEGIN:VEVENT
DTSTART:20250625T223000Z
DTEND:20250625T233000Z
X-MICROSOFT-CDO-ALLDAYEVENT:FALSE
SUMMARY:Ambassador Meeting
DESCRIPTION:Ambassador meeting & appreciation happy hour!\n\n\n\nThe Ambassador Team plays a vital role in the PDACC and the community in retaining existing members\, recruiting new members\, and strengthening the PDACC by facilitating productive working relationships\, encouraging relationships\, encouraging member involvement and acting as a catalyst in the PDACC.
X-ALT-DESC;FMTTYPE=text/html:Ambassador meeting &amp\; appreciation happy hour!<br />\n<br />\nThe Ambassador Team plays a vital role in the PDACC and the community in retaining existing members\, recruiting new members\, and strengthening the PDACC by facilitating productive working relationships\, encouraging relationships\, encouraging member involvement and acting as a catalyst in the PDACC.
LOCATION:Casuela's Cafe 73703 CA-111\, Palm Desert\, CA 92260
UID:e.573.20178
SEQUENCE:3
DTSTAMP:20260421T082148Z
URL:https://business.pdacc.org/events/details/ambassador-meeting-06-17-2025-20178
END:VEVENT

END:VCALENDAR
