BEGIN:VCALENDAR
VERSION:2.0
PRODID:-//ChamberMaster//Event Calendar 2.0//EN
METHOD:PUBLISH
X-PUBLISHED-TTL:P3D
REFRESH-INTERVAL:P3D
CALSCALE:GREGORIAN
BEGIN:VEVENT
DTSTART:20281219T230000Z
DTEND:20281219T234500Z
X-MICROSOFT-CDO-ALLDAYEVENT:FALSE
SUMMARY:Ambassador Meeting
DESCRIPTION:The Ambassador Team plays a vital role in the PDACC and the community in retaining existing members\, recruiting new members\, and strengthening the PDACC by facilitating productive working relationships\, encouraging relationships\, encouraging member involvement and acting as a catalyst in the PDACC.
X-ALT-DESC;FMTTYPE=text/html:The Ambassador Team plays a vital role in the PDACC and the community in retaining existing members\, recruiting new members\, and strengthening the PDACC by facilitating productive working relationships\, encouraging relationships\, encouraging member involvement and acting as a catalyst in the PDACC.
LOCATION:Palm Desert Area Chamber of Commerce (some months we will meet at a local business TBA)
UID:e.573.20220
SEQUENCE:3
DTSTAMP:20260422T013630Z
URL:https://business.pdacc.org/events/details/ambassador-meeting-12-19-2028-20220
END:VEVENT

END:VCALENDAR
