BEGIN:VCALENDAR
VERSION:2.0
PRODID:-//ChamberMaster//Event Calendar 2.0//EN
METHOD:PUBLISH
X-PUBLISHED-TTL:P3D
REFRESH-INTERVAL:P3D
CALSCALE:GREGORIAN
BEGIN:VEVENT
DTSTART:20230110T150000Z
DTEND:20230110T163000Z
X-MICROSOFT-CDO-ALLDAYEVENT:FALSE
SUMMARY:Business Breakfast 1/10/23
DESCRIPTION:The meeting will be held at the beautiful Residence Inn Palm Desert and include a delicious fully catered breakfast!
X-ALT-DESC;FMTTYPE=text/html:<span style="font-size:14px\;"><span style="font-family:verdana\;">The meeting will be&nbsp\;held at the beautiful <strong>Residence Inn Palm Desert</strong> and include a delicious fully catered breakfast!</span></span><br />\n&nbsp\;
LOCATION:38305 Cook St\, Palm Desert 92211
UID:e.573.18111
SEQUENCE:3
DTSTAMP:20260421T085921Z
URL:https://business.pdacc.org/events/details/business-breakfast-1-10-23-18111
END:VEVENT

END:VCALENDAR
