BEGIN:VCALENDAR
VERSION:2.0
PRODID:-//ChamberMaster//Event Calendar 2.0//EN
METHOD:PUBLISH
X-PUBLISHED-TTL:P3D
REFRESH-INTERVAL:P3D
CALSCALE:GREGORIAN
BEGIN:VEVENT
DTSTART:20190611T140000Z
DTEND:20190611T153000Z
X-MICROSOFT-CDO-ALLDAYEVENT:FALSE
SUMMARY:Business Breakfast
DESCRIPTION:Join us on June 11 for our Business Breakfast. Hear from a panel of business experts\, get an opportunity to introduce yourself to a room of 90 leaders and enjoy a beautiful breakfast hosted by Palm Desert's golf course\, Desert Willow Golf Resort.  Register here.    \n\n\n\nPanel Topic - 'Rebranding - Is It Worth It?"\n\n\n\nSponsored by Rabobank
X-ALT-DESC;FMTTYPE=text/html:Join us on June 11 for our Business Breakfast. Hear from a panel of business experts\, get an opportunity to introduce yourself to a room of 90 leaders and enjoy a beautiful breakfast hosted by Palm Desert&#39\;s golf course\, Desert Willow Golf Resort.&nbsp\; Register <a href="https://pdacc.org/event-registration/">here</a>.&nbsp\; &nbsp\;&nbsp\;<br />\n<br />\nPanel Topic - &#39\;Rebranding - Is It Worth It?&quot\;<br />\n<br />\nSponsored by Rabobank
LOCATION:Desert Willow Golf Resort 38-995 Desert Willow Dr\, Palm Desert
UID:e.573.14738
SEQUENCE:3
DTSTAMP:20260424T223429Z
URL:https://business.pdacc.org/events/details/business-breakfast-14738
END:VEVENT

END:VCALENDAR
