BEGIN:VCALENDAR
VERSION:2.0
PRODID:-//ChamberMaster//Event Calendar 2.0//EN
METHOD:PUBLISH
X-PUBLISHED-TTL:P3D
REFRESH-INTERVAL:P3D
CALSCALE:GREGORIAN
BEGIN:VEVENT
DTSTART:20240910T150000Z
DTEND:20240910T163000Z
X-MICROSOFT-CDO-ALLDAYEVENT:FALSE
SUMMARY:Business Breakfast
DESCRIPTION:This month's Breakfast will be held at The Living Desert Zoo & Gardens!\n\nLearn about The Living Desert's Business Partner Program and how it can benefit your business at no cost to you!\n\nHear from Jeff Petrovic\, Chief Development Officer\, sharing some insight/updates about The Living Desert.
X-ALT-DESC;FMTTYPE=text/html:<span style="font-size:18px\;"><span style="color: rgb(51\, 51\, 51)\; font-family: sans-serif\, Arial\, Verdana\, &quot\;Trebuchet MS&quot\;\; background-color: rgb(255\, 255\, 255)\;">This month&#39\;s Breakfast will be held at The Living Desert Zoo &amp\; Gardens!</span></span><br />\n<span style="color: rgb(36\, 36\, 36)\; font-family: Aptos\, sans-serif\; font-size: 16px\;">Learn about The Living Desert&#39\;s Business Partner Program and how it can benefit your business at no cost to you!<br />\nHear from&nbsp\;</span><span style="font-family:aptos\,sans-serif\;"><span style="font-size:12.0pt\;">Jeff Petrovic\,&nbsp\;Chief Development Officer\, sharing&nbsp\;some insight/updates about The Living Desert.&nbsp\;</span></span>
LOCATION:The Living Desert Zoo & Gardens 47900 Portola Drive\, Palm Desert
UID:e.573.19220
SEQUENCE:3
DTSTAMP:20260423T203135Z
URL:https://business.pdacc.org/events/details/business-breakfast-19220
END:VEVENT

END:VCALENDAR
