BEGIN:VCALENDAR
VERSION:2.0
PRODID:-//ChamberMaster//Event Calendar 2.0//EN
METHOD:PUBLISH
X-PUBLISHED-TTL:P3D
REFRESH-INTERVAL:P3D
CALSCALE:GREGORIAN
BEGIN:VEVENT
DTSTART:20220725T223000Z
DTEND:20220725T233000Z
X-MICROSOFT-CDO-ALLDAYEVENT:FALSE
SUMMARY:Executive Board meetings
DESCRIPTION:Meeting of Executive Board of the PDACC. These are closed meetings available only to the Exec board. Meetings are currently held by Zoom.
X-ALT-DESC;FMTTYPE=text/html:Meeting of Executive Board of the PDACC. These are closed meetings available only to the Exec board. Meetings are currently held by Zoom.
LOCATION:
UID:e.573.16724
SEQUENCE:3
DTSTAMP:20260420T070226Z
URL:https://business.pdacc.org/events/details/executive-board-meetings-07-25-2022-16724
END:VEVENT

END:VCALENDAR
