BEGIN:VCALENDAR
VERSION:2.0
PRODID:-//ChamberMaster//Event Calendar 2.0//EN
METHOD:PUBLISH
X-PUBLISHED-TTL:P3D
REFRESH-INTERVAL:P3D
CALSCALE:GREGORIAN
BEGIN:VEVENT
DTSTART:20260314T180000Z
DTEND:20260314T230000Z
X-MICROSOFT-CDO-ALLDAYEVENT:FALSE
SUMMARY:J.Mclaughlin Palm Desert Turns Shopping Into Lifesaving Support For Rescue Dogs
DESCRIPTION:Shopping with purpose is in season at J.McLaughlin Palm Desert this March. The boutique is hosting a special event where every purchase helps save a dog's life\, with a portion of proceeds benefiting German Shepherd Rescue of Orange County (GSROC) to fund critical care for abandoned\, injured\, and neglected dogs throughout Southern California and the Coachella Valley. It's more than a shopping event   it's a celebration of second chances. Guests will sip wine\, savor gourmet hors d'oeuvres\, enter to win exciting giveaways and discover J.McLaughlin's newest arrivals all while supporting life-saving rescue work. Kira\, GSROC's beloved K-9 Ambassador\, will also be greeting guests throughout the day and for those interested in adopting a dog\, digital displays will showcase four-legged companions looking for their forever homes.
X-ALT-DESC;FMTTYPE=text/html:Shopping with purpose is in season at J.McLaughlin Palm Desert this March. The boutique is hosting a special event where every purchase helps save a dog&rsquo\;s life\, with a portion of proceeds benefiting German Shepherd Rescue of Orange County (GSROC) to fund critical care for abandoned\, injured\, and neglected dogs throughout Southern California and the Coachella Valley. It&rsquo\;s more than a shopping event &ndash\; it&rsquo\;s a celebration of second chances. Guests will sip wine\, savor gourmet hors d&rsquo\;oeuvres\, enter to win exciting giveaways and discover J.McLaughlin&rsquo\;s newest arrivals all while supporting life-saving rescue work. Kira\, GSROC&rsquo\;s beloved K-9 Ambassador\, will also be greeting guests throughout the day and for those interested in adopting a dog\, digital displays will showcase four-legged companions looking for their forever homes.
LOCATION:J.McLaughlin 73-375 El Paseo Suite L Palm Desert\, CA 92260
UID:e.573.20913
SEQUENCE:3
DTSTAMP:20260421T082612Z
URL:https://business.pdacc.org/events/details/j-mclaughlin-palm-desert-turns-shopping-into-lifesaving-support-for-rescue-dogs-20913
END:VEVENT

END:VCALENDAR
