BEGIN:VCALENDAR
VERSION:2.0
PRODID:-//ChamberMaster//Event Calendar 2.0//EN
METHOD:PUBLISH
X-PUBLISHED-TTL:P3D
REFRESH-INTERVAL:P3D
CALSCALE:GREGORIAN
BEGIN:VEVENT
DTSTART:20210519T000000Z
DTEND:20210519T030000Z
X-MICROSOFT-CDO-ALLDAYEVENT:FALSE
SUMMARY:Microsoft Office – Word – Level II
DESCRIPTION:Learn about Microsoft Office Word Level II\, including creating tables\, work with building blocks and formatting.
X-ALT-DESC;FMTTYPE=text/html:Learn about Microsoft Office Word Level II\, including creating tables\, work with building blocks and formatting.
LOCATION:Remote Learning
UID:e.573.16008
SEQUENCE:3
DTSTAMP:20260419T141458Z
URL:https://business.pdacc.org/events/details/microsoft-office-word-level-ii-05-18-2021-16008
END:VEVENT

END:VCALENDAR
