BEGIN:VCALENDAR
VERSION:2.0
PRODID:-//ChamberMaster//Event Calendar 2.0//EN
METHOD:PUBLISH
X-PUBLISHED-TTL:P3D
REFRESH-INTERVAL:P3D
CALSCALE:GREGORIAN
BEGIN:VEVENT
DTSTART:20240217T010000Z
DTEND:20240217T030000Z
X-MICROSOFT-CDO-ALLDAYEVENT:FALSE
SUMMARY:MIXER - La Quinta Brewing Co.
DESCRIPTION:MEET   GREET   NETWORK   REPEAT\n\nat February's Mixer at La Quinta Brewing Co.!
X-ALT-DESC;FMTTYPE=text/html:MEET <span style="font-family:century gothic\,sans-serif\;">&#9679\;</span> GREET <span style="font-family:century gothic\,sans-serif\;">&#9679\;</span> NETWORK <span style="font-family:century gothic\,sans-serif\;">&#9679\;</span> REPEAT<br />\nat February&#39\;s Mixer at La Quinta Brewing Co.!<br />\n&nbsp\;
LOCATION:74714 Technology Dr\, Palm Desert\, CA 92211
UID:e.573.18531
SEQUENCE:3
DTSTAMP:20260422T160335Z
URL:https://business.pdacc.org/events/details/mixer-la-quinta-brewing-co-18531
END:VEVENT

END:VCALENDAR
