BEGIN:VCALENDAR
VERSION:2.0
PRODID:-//ChamberMaster//Event Calendar 2.0//EN
METHOD:PUBLISH
X-PUBLISHED-TTL:P3D
REFRESH-INTERVAL:P3D
CALSCALE:GREGORIAN
BEGIN:VEVENT
DTSTART:20220809T143000Z
DTEND:20220809T160000Z
X-MICROSOFT-CDO-ALLDAYEVENT:FALSE
SUMMARY:New Member Orientation 8/9/22
DESCRIPTION:The New Member Orientation is NOT exclusive to new members. \n\nIt is a chance to learn more about the ins and outs of the PDACC in order for you to get to the most out of your membership. \n\n- Take a look into our year long event calendar\n\n- Learn about the networking process and how to navigate a networking event\n\n- Dive into MemberZone and customize your online directory listing\n\n- Learn about opportunities to become an ambassador\n\n- Learn about speaking and sponsorship opportunities
X-ALT-DESC;FMTTYPE=text/html:The New Member Orientation is NOT exclusive to new members.&nbsp\;<br />\nIt is a chance to learn more about the ins and outs of the PDACC in order for you to get to the most out of your membership.&nbsp\;<br />\n- Take a look into our year long event calendar<br />\n- Learn about the networking process and how to navigate a networking event<br />\n- Dive into MemberZone and customize your online directory listing<br />\n- Learn about opportunities to become an ambassador<br />\n- Learn about speaking and sponsorship opportunities
LOCATION:Chamber Building\, Large conference room 72259 CA-111 Palm Desert\, CA 92260
UID:e.573.17567
SEQUENCE:3
DTSTAMP:20260423T232206Z
URL:https://business.pdacc.org/events/details/new-member-orientation-8-9-22-17567
END:VEVENT

END:VCALENDAR
