BEGIN:VCALENDAR
VERSION:2.0
PRODID:-//ChamberMaster//Event Calendar 2.0//EN
METHOD:PUBLISH
X-PUBLISHED-TTL:P3D
REFRESH-INTERVAL:P3D
CALSCALE:GREGORIAN
BEGIN:VEVENT
DTSTART:20260527T230000Z
DTEND:20260528T030000Z
X-MICROSOFT-CDO-ALLDAYEVENT:FALSE
SUMMARY:Putt Putt on El Paseo
DESCRIPTION:Putt Putt on El Paseo is here and you're invited!\n\n\n\nThe event begins at 4:00 PM with a pre-party hosted by The Gardens on El Paseo. From there you and your team head off to the first hole. Each participating business will have a hole for you to test you putting skills on as you enjoy a drink and a bite to eat!\n\nAfter you complete the course\,  "The 19th Hole"\, hosted by Casuelas Cafe\, will lead into an amazing after-party and award ceremony.
X-ALT-DESC;FMTTYPE=text/html:<div style="border: 0px\; font-variant-numeric: inherit\; font-variant-east-asian: inherit\; font-variant-alternates: inherit\; font-variant-position: inherit\; font-variant-emoji: inherit\; font-stretch: inherit\; font-size: 12pt\; line-height: 1.2\; font-family: Aptos\, Aptos_EmbeddedFont\, Aptos_MSFontService\, Calibri\, Helvetica\, sans-serif\; font-optical-sizing: inherit\; font-size-adjust: inherit\; font-kerning: inherit\; font-feature-settings: inherit\; font-variation-settings: inherit\; font-language-override: inherit\; margin: 2pt 0px 0px\; padding: 0px\; vertical-align: baseline\; color: black\; direction: ltr\;"><span data-olk-copy-source="MailCompose" style="font-family: Calibri\, Helvetica\, sans-serif\; font-size: 12pt\; color: rgb(0\, 0\, 0)\;"><span style="font-size:18px\;"><strong>Putt Putt on El Paseo is here and you&#39\;re invited!</strong></span><br />\n<br />\nThe event begins at 4:00 PM with a pre-party hosted by The Gardens on El Paseo. From there you and your team head off to the first hole. Each participating business will have a hole for you to test you putting skills on as you enjoy a drink and a bite to eat!<br />\nAfter you complete the course\,&nbsp\; &quot\;The 19th Hole&quot\;\, hosted by Casuelas Cafe\, will lead into an amazing after-party and award ceremony.&nbsp\;</span></div>\n\n<div style="border: 0px\; font-variant-numeric: inherit\; font-variant-east-asian: inherit\; font-variant-alternates: inherit\; font-variant-position: inherit\; font-variant-emoji: inherit\; font-stretch: inherit\; font-size: 12pt\; line-height: inherit\; font-family: Aptos\, Aptos_EmbeddedFont\, Aptos_MSFontService\, Calibri\, Helvetica\, sans-serif\; font-optical-sizing: inherit\; font-size-adjust: inherit\; font-kerning: inherit\; font-feature-settings: inherit\; font-variation-settings: inherit\; font-language-override: inherit\; margin: 0px\; padding: 0px\; vertical-align: baseline\; color: black\;">&nbsp\;</div>\n
LOCATION:Begins: The Center Lawn at The Gardens on El Paseo (73545 El Paseo\, Palm Desert\, CA 92260) Welcome Party: 3:15 PM - 4:30 PM Ends: Casuelas Cafe (73703 CA-111\, Palm Desert\, CA 92260)
UID:e.573.20789
SEQUENCE:3
DTSTAMP:20260425T033154Z
URL:https://business.pdacc.org/events/details/putt-putt-on-el-paseo-20789
END:VEVENT

END:VCALENDAR
