BEGIN:VCALENDAR
VERSION:2.0
PRODID:-//ChamberMaster//Event Calendar 2.0//EN
METHOD:PUBLISH
X-PUBLISHED-TTL:P3D
REFRESH-INTERVAL:P3D
CALSCALE:GREGORIAN
BEGIN:VEVENT
DTSTART:20230322T230000Z
DTEND:20230322T233000Z
X-MICROSOFT-CDO-ALLDAYEVENT:FALSE
SUMMARY:Ribbon Cutting - Blanke Schein Wealth Management
DESCRIPTION:A Ribbon Cutting to celebrate Blanke Schein Wealth Management's new location on El Paseo!
X-ALT-DESC;FMTTYPE=text/html:A Ribbon Cutting to celebrate Blanke Schein Wealth Management&#39\;s new location on El Paseo!
LOCATION:73700 El Paseo\, Palm Desert\, CA 92260
UID:e.573.18421
SEQUENCE:3
DTSTAMP:20260420T223751Z
URL:https://business.pdacc.org/events/details/ribbon-cutting-blanke-schein-wealth-management-18421
END:VEVENT

END:VCALENDAR
