BEGIN:VCALENDAR
VERSION:2.0
PRODID:-//ChamberMaster//Event Calendar 2.0//EN
METHOD:PUBLISH
X-PUBLISHED-TTL:P3D
REFRESH-INTERVAL:P3D
CALSCALE:GREGORIAN
BEGIN:VEVENT
DTSTART:20260423T230000Z
DTEND:20260424T020000Z
X-MICROSOFT-CDO-ALLDAYEVENT:FALSE
SUMMARY:Ribbon Cutting & Special Shopping event - D Bierfeldt Jewelers
DESCRIPTION:Join us for an exclusive evening at D. Bierfeldt Jewelers!\n\nCelebrate with us from 4:00 7:00 PM\, featuring a special ribbon-cutting ceremony at 4:15 PM.\n\nThis elegant shopping event will showcase the stunning designs of Dallas Prince\, an internationally recognized jewelry designer and television personality known for her bold\, sophisticated creations and distinctive gemstones. Her collection blends timeless glamour with modern artistry   and attendees will have the rare opportunity to shop her line in person.\n\n\n\nEnjoy exclusive event-only savings\, sip champagne\, savor small bites from Mario's Italian Cafe\, and mingle with fellow guests in a beautiful\, upscale setting!
X-ALT-DESC;FMTTYPE=text/html:<p data-end="80" data-start="0"><span style="font-size:16px\;">Join us for an exclusive evening at <strong data-end="77" data-start="36">D. Bierfeldt Jewelers</strong>!</span></p>\n\n<p data-end="184" data-start="82"><span style="font-size:16px\;">Celebrate with us from <strong data-end="121" data-start="105">4:00&ndash\;7:00 PM</strong>\, featuring a special ribbon-cutting ceremony at <strong data-end="181" data-start="170">4:15 PM</strong>.</span></p>\n\n<p data-end="576" data-start="186"><span style="font-size:16px\;">This elegant shopping event will showcase the stunning designs of <strong data-end="293" data-start="252">Dallas Prince</strong>\, an internationally recognized jewelry designer and television personality known for her bold\, sophisticated creations and distinctive gemstones. Her collection blends timeless glamour with modern artistry &mdash\; and attendees will have the rare opportunity to shop her line in person.<br />\n<br />\nEnjoy exclusive event-only savings\, sip champagne\, savor small bites from Mario&#39\;s Italian Cafe\, and mingle with fellow guests in a beautiful\, upscale setting!</span></p>\n
LOCATION:44425 Town Center Way SUITE E\, Palm Desert\, CA 92260
UID:e.573.20928
SEQUENCE:3
DTSTAMP:20260421T153454Z
URL:https://business.pdacc.org/events/details/ribbon-cutting-special-shopping-event-d-bierfeldt-jewelers-20928
END:VEVENT

END:VCALENDAR
