BEGIN:VCALENDAR
VERSION:2.0
PRODID:-//ChamberMaster//Event Calendar 2.0//EN
METHOD:PUBLISH
X-PUBLISHED-TTL:P3D
REFRESH-INTERVAL:P3D
CALSCALE:GREGORIAN
BEGIN:VEVENT
DTSTART:20260405T000000Z
DTEND:20260405T020000Z
X-MICROSOFT-CDO-ALLDAYEVENT:FALSE
SUMMARY:Uncorked In Palm Desert - Tasting Event
DESCRIPTION:Join us for the inaugural Uncorked in Palm Desert\, Presented by the Palm Desert Area Chamber of Commerce & La Fe Wine Bar. A new signature wine tasting event set to debut on the beautiful Center Lawn at The Gardens on El Paseo.\n\nGuests will enjoy an evening featuring over 100 wines\, thoughtfully curated to showcase a diverse range of varietals\, regions\, and styles. From bold reds and crisp whites to refreshing ros s and sparkling selections\, there will be something to delight every palate.
X-ALT-DESC;FMTTYPE=text/html:<p style="box-sizing: border-box\; color: rgb(0\, 0\, 0)\; font-family: &quot\;Red Hat Text&quot\;\, Helvetica\, Arial\, sans-serif\; font-size: 18px\;">Join us for the inaugural Uncorked in Palm Desert\, Presented by the Palm Desert Area Chamber of Commerce &amp\; La Fe Wine Bar. A new signature wine tasting event set to debut on the beautiful Center Lawn at The Gardens on El Paseo.</p>\n\n<p style="box-sizing: border-box\; color: rgb(0\, 0\, 0)\; font-family: &quot\;Red Hat Text&quot\;\, Helvetica\, Arial\, sans-serif\; font-size: 18px\;">Guests will enjoy an evening featuring over 100 wines\, thoughtfully curated to showcase a diverse range of varietals\, regions\, and styles. From bold reds and crisp whites to refreshing ros&eacute\;s and sparkling selections\, there will be something to delight every palate.</p>\n
LOCATION:The Gardens on El Paseo\, Center Lawn 73555 El Paseo\, Palm Desert\, CA 92260
UID:e.573.20937
SEQUENCE:3
DTSTAMP:20260421T172259Z
URL:https://business.pdacc.org/events/details/uncorked-in-palm-desert-tasting-event-20937
END:VEVENT

END:VCALENDAR
